BEGIN:VCALENDAR
VERSION:2.0
PRODID:-//FABnyc - ECPv6.15.20//NONSGML v1.0//EN
CALSCALE:GREGORIAN
METHOD:PUBLISH
X-ORIGINAL-URL:http://www.fabnyc.org
X-WR-CALDESC:Events for FABnyc
REFRESH-INTERVAL;VALUE=DURATION:PT1H
X-Robots-Tag:noindex
X-PUBLISHED-TTL:PT1H
BEGIN:VTIMEZONE
TZID:UTC
BEGIN:STANDARD
TZOFFSETFROM:+0000
TZOFFSETTO:+0000
TZNAME:UTC
DTSTART:20250101T000000
END:STANDARD
END:VTIMEZONE
BEGIN:VEVENT
DTSTART;TZID=UTC:20260524T120000
DTEND;TZID=UTC:20260524T170000
DTSTAMP:20260420T001659
CREATED:20260319T182343Z
LAST-MODIFIED:20260319T183113Z
UID:7747-1779624000-1779642000@www.fabnyc.org
SUMMARY:Loisaida Festival 2026
DESCRIPTION:As is tradition\, FAB will be at the Loisaida Festival this year! \nSince 1987\, the Loisaida Festival has been celebrated the Sunday before Memorial Day weekend in the Manhattan neighborhood known as Alphabet City\, the East Village\, or “Loisaida.” Presented in the Avenue C cultural corridor — renamed Loisaida Avenue in 1989 — it is considered the largest community festival in the neighborhood. \n 
URL:http://www.fabnyc.org/event/loisaida-festival-2026/
LOCATION:Loisaida Avenue\, Avenue C\, New York\, NY\, United States
CATEGORIES:All Events
END:VEVENT
BEGIN:VEVENT
DTSTART;TZID=UTC:20260617T180000
DTEND;TZID=UTC:20260617T180000
DTSTAMP:20260420T001659
CREATED:20260319T164354Z
LAST-MODIFIED:20260319T164506Z
UID:7735-1781719200-1781719200@www.fabnyc.org
SUMMARY:FAB25! Celebrating 25 years of Fourth Arts Block!
DESCRIPTION:A community party and benefit for FAB celebrating our 25th year! \nReserve your tickets here: https://secure.givelively.org/event/fourth-arts-block-inc/fab25-celebrating-25-years-of-fourth-arts-block
URL:http://www.fabnyc.org/event/fab25-celebrating-25-years-of-fourth-arts-block/
LOCATION:FABnyc\, 70 East 4th Street\, New York\, NY\, 10003\, United States
CATEGORIES:All Events
ATTACH;FMTTYPE=image/png:http://www.fabnyc.org/wp-content/uploads/2026/03/Untitled_Artwork-23.png
END:VEVENT
END:VCALENDAR