BEGIN:VCALENDAR
VERSION:2.0
PRODID:-//FABnyc - ECPv6.15.20//NONSGML v1.0//EN
CALSCALE:GREGORIAN
METHOD:PUBLISH
X-ORIGINAL-URL:http://www.fabnyc.org
X-WR-CALDESC:Events for FABnyc
REFRESH-INTERVAL;VALUE=DURATION:PT1H
X-Robots-Tag:noindex
X-PUBLISHED-TTL:PT1H
BEGIN:VTIMEZONE
TZID:UTC
BEGIN:STANDARD
TZOFFSETFROM:+0000
TZOFFSETTO:+0000
TZNAME:UTC
DTSTART:20240101T000000
END:STANDARD
END:VTIMEZONE
BEGIN:VEVENT
DTSTART;VALUE=DATE:20251018
DTEND;VALUE=DATE:20251019
DTSTAMP:20260419T190512
CREATED:20250617T183049Z
LAST-MODIFIED:20251007T144341Z
UID:7193-1760745600-1760831999@www.fabnyc.org
SUMMARY:Lower East Side Arts & Culture Open House 2025
DESCRIPTION:Free!\nSaturday October 18\, 2025 \nFULL PROGRAMMING & LINE-UP HERE \nABOUT\nOrganized by Fourth Arts Block (FABnyc) the Lower East Side Arts & Culture Open House is now in its third year\, welcoming folks into cultural spaces without a ticket to a show or the cost of admission. All organizations will have staff available to greet you & answer questions about their programs! \nOn East 4th Street\, you can grab maps & plan your route — and meet folks from 16 different organizations tabling on the block! Check out live music\, poetry and theater performances on our stage\, plus hands-on arts activities good for all ages. \nThen\, with a map in hand\, you can venture out into the historic Lower East Side to visit 13 more organizations who are opening their doors for you to explore exhibits\, artist studios\, theaters\, a zine library\, and more! \nJoin us to choose-your-own-adventure around the neighborhood and learn more about Lower East Side Arts & Culture organizations straight from the people behind the scenes!\n \nORGANIZATIONS\nABC No Rio | Abrons Arts Center | Arts Loisaida Foundation | Artists Alliance Inc. | Bond Street Theatre | The Clemente Soto Velez Cultural and Educational Center | Cooper Square Committee | CultureHub | Fourth Arts Block (FABnyc) | Green Map System | IATI Theater | International Center of Photography | La MaMa Experimental Theater Club | Loisaida\, Inc. | The Lower East Side Preservation Initiative | Magnum Foundation | Movement Research | New Museum of Contemporary Art | New York Theatre Workshop | Nuyorican Poets Cafe |  The Performance Project @ University Settlement | Relative Arts | Rod Rodgers Dance Company | Swiss Institute | Tenement Museum |  Think!Chinatown | The Ukrainian Museum | WOW Café Theater
URL:http://www.fabnyc.org/event/lower-east-side-arts-culture-open-house-2025/
LOCATION:Various locations around the Lower East Side!
CATEGORIES:All Events
ATTACH;FMTTYPE=image/png:http://www.fabnyc.org/wp-content/uploads/2025/09/OH-2025-3-1.png
END:VEVENT
BEGIN:VEVENT
DTSTART;TZID=UTC:20251025T133000
DTEND;TZID=UTC:20251025T143000
DTSTAMP:20260419T190512
CREATED:20250909T194747Z
LAST-MODIFIED:20251007T145942Z
UID:7312-1761399000-1761402600@www.fabnyc.org
SUMMARY:Open Arts LES: Yi-Yi
DESCRIPTION:YiYi\, a Ukrainian folk group composed of Caroline Kuhn\, Katie Pawluk\, and Zoya Shepko\, breathes new life into traditional Ukrainian songs through unconventional arrangements and a diverse mix of instruments\, including the bandura\, violin\, banjo\, hutsul drum\, cello and accordion. Their performances are characterized by three-part polyphony\, creating rich sonic tapestries that transport audiences from lively party vibes to poignant moments of heartbreak.
URL:http://www.fabnyc.org/event/open-arts-les-yi-yi/
LOCATION:Avenue B Open Street\, Avenue B between E 8th Street & E 9th Street\, New York\, NY\, 10009\, United States
CATEGORIES:All Events,Open Arts LES
ATTACH;FMTTYPE=image/png:http://www.fabnyc.org/wp-content/uploads/2025/09/YiYi.png
END:VEVENT
BEGIN:VEVENT
DTSTART;TZID=UTC:20251025T150000
DTEND;TZID=UTC:20251025T160000
DTSTAMP:20260419T190512
CREATED:20251007T145832Z
LAST-MODIFIED:20251007T145902Z
UID:7531-1761404400-1761408000@www.fabnyc.org
SUMMARY:Open Arts LES: Nolan Nwachukwu Project
DESCRIPTION:Nolan Nwachukwu Project’s music features a combination of diverse original compositions and new\, funky interpretations of contemporary songs and jazz standards. The compositions and arrangements performed by the group are infused with a blend of African-American genres\, including gospel\, jazz\, R&B\, soul\, funk\, and other world music. \nAbout Nolan Nwachukwu  \nNolan Nwachukwu is a bassist\, composer\, and producer based in New York City. Originally from South Florida\, Nolan studied Jazz at the Dillard Center for the Arts under the direction of Christopher Dorsey. With Nolan on bass\, the DCA band achieved 2 straight top-3 finishes at the Essentially Ellington national competition\, including an award for outstanding rhythm section and an honorable mention on bass. He received his Bachelor of Music degree from the Manhattan School of Music\, under the guidance of Buster Williams\, Marc Cary\, Kendrick Scott\, and John Benitez. \nSince relocating to New York\, Nolan has begun collaborations with acclaimed artists and musicians such as J’Nai Bridges\, Damien Sneed\, Michael Mwenso and the Shakes\, Tyreek McDole\, Miles Lennox\, Savion Glover\, Miki Howard\, Jon Batiste\, Ruben Fox\, Willerm Delisfort\, Tina Fabrique\, Brandon Woody\, Cisco Swank\, FORAGER\, Jillian Grace\, Imani Rouselle\, Reuben James\, and the Jazz at Lincoln Center. \nNolan has performed at many notable venues and festivals including Dizzy’s @ Jazz at Lincoln Center\, Mintons Playhouse\, Smalls Jazz Club\, Carnegie Hall\, MET Art Museum\, City Winery (New York\, Pittsburgh\, and Philadelphia)\, NPR Tiny Desk (Home)\, Monterey Jazz Festival\, Montclair Jazz Festival\, South Beach Jazz Festival\, Umbria Winter Jazz Festival\, and Burlington Discover Jazz Festival amongst others. \nNolan currently performs throughout various venues in NYC and tours nationally and internationally between different groups\, including FORAGER\, Michael Mwenso & The Shakes\, and Electric Root’s Production: The Sound of (Black) Music.
URL:http://www.fabnyc.org/event/open-arts-les-nolan-nwachukwu-project/
LOCATION:Avenue B Open Street\, Avenue B between E 8th Street & E 9th Street\, New York\, NY\, 10009\, United States
CATEGORIES:All Events,Open Arts LES
ATTACH;FMTTYPE=image/jpeg:http://www.fabnyc.org/wp-content/uploads/2025/10/maxresdefault.jpg
END:VEVENT
END:VCALENDAR