BEGIN:VCALENDAR
VERSION:2.0
PRODID:-//FABnyc - ECPv6.15.20//NONSGML v1.0//EN
CALSCALE:GREGORIAN
METHOD:PUBLISH
X-ORIGINAL-URL:https://www.fabnyc.org
X-WR-CALDESC:Events for FABnyc
REFRESH-INTERVAL;VALUE=DURATION:PT1H
X-Robots-Tag:noindex
X-PUBLISHED-TTL:PT1H
BEGIN:VTIMEZONE
TZID:UTC
BEGIN:STANDARD
TZOFFSETFROM:+0000
TZOFFSETTO:+0000
TZNAME:UTC
DTSTART:20240101T000000
END:STANDARD
END:VTIMEZONE
BEGIN:VTIMEZONE
TZID:America/New_York
BEGIN:DAYLIGHT
TZOFFSETFROM:-0500
TZOFFSETTO:-0400
TZNAME:EDT
DTSTART:20250309T070000
END:DAYLIGHT
BEGIN:STANDARD
TZOFFSETFROM:-0400
TZOFFSETTO:-0500
TZNAME:EST
DTSTART:20251102T060000
END:STANDARD
BEGIN:DAYLIGHT
TZOFFSETFROM:-0500
TZOFFSETTO:-0400
TZNAME:EDT
DTSTART:20260308T070000
END:DAYLIGHT
BEGIN:STANDARD
TZOFFSETFROM:-0400
TZOFFSETTO:-0500
TZNAME:EST
DTSTART:20261101T060000
END:STANDARD
BEGIN:DAYLIGHT
TZOFFSETFROM:-0500
TZOFFSETTO:-0400
TZNAME:EDT
DTSTART:20270314T070000
END:DAYLIGHT
BEGIN:STANDARD
TZOFFSETFROM:-0400
TZOFFSETTO:-0500
TZNAME:EST
DTSTART:20271107T060000
END:STANDARD
END:VTIMEZONE
BEGIN:VEVENT
DTSTART;TZID=UTC:20250717T170000
DTEND;TZID=UTC:20250717T200000
DTSTAMP:20260421T155112
CREATED:20250715T205058Z
LAST-MODIFIED:20250715T205058Z
UID:7228-1752771600-1752782400@www.fabnyc.org
SUMMARY:Open Arts LES: New York Theatre Workshop Celebrates Photographer Alex Harsley
DESCRIPTION:Alex Harsley has lived and worked on the block since the 1970s\, and has been documenting life in NYC since the 1950s. His astonishing archive includes street photography of the Lower East Side\, Coney Island and Harlem\, among others\, as well as event and portrait photography with a particular focus on Black luminaries including John Coltrane\, Ray Charles\, Sarah Vaughn\, Coretta Scott King\, Angela Davis and many\, many others. \nThe celebration includes: \nA solo performance of NYC artist Brigitte Barnett-Loftis takes the stage with a timely and personal performance that weaves together her journey and Alex’s story\, in the context of East 4th Street. Directed by Jasmine Mitchell\, NYTW’s Black Theatre Coalition Artistic Director Fellow. \nOn This Spot Interviews: Grab the mic and add your story to the archive of NYC stories on our block. \nScreening of 4th Street Stories: Go back in time with video interviews of people lived\, worked\, made art\, and been part of the rich history of East 4th Street\, as we reflect the voice and memory of our community then and now. \nA Photo Gallery: An exhibition of Alex’s photography\, documenting the evolution of the block over the years and highlighting the families who have lived here for generations. \nLive Portrait Painting: Artist Joi Sanchez paints a live portrait that celebrates Alex’s life and legacy. \nFood and sweets in celebration of Alex’s birthday!
URL:https://www.fabnyc.org/event/open-arts-les-new-york-theatre-workshop-celebrates-photographer-alex-harsley/
LOCATION:East 4th Street Open Street\, 70 East 4th Street\, New York\, NY\, 10003\, United States
CATEGORIES:All Events,Open Arts LES
ATTACH;FMTTYPE=image/jpeg:https://www.fabnyc.org/wp-content/uploads/2025/07/alex.jpg
END:VEVENT
BEGIN:VEVENT
DTSTART;TZID=UTC:20250724T173000
DTEND;TZID=UTC:20250724T193000
DTSTAMP:20260421T155112
CREATED:20250703T183943Z
LAST-MODIFIED:20250703T184006Z
UID:7209-1753378200-1753385400@www.fabnyc.org
SUMMARY:Open Arts LES: Wen-Ting Wu Trio
DESCRIPTION:NY-based drummer\, composer\, and educator Wen-Ting Wu is a diverse artist from Taiwan with a background ranging from jazz to contemporary music. Besides being a member in Grammy-winner Frank Lacy’s Septet and AAPI Jazz Collective currently\, she has also shared the stage with jazz artists such as Ed Cherry\, Helen Sung\, Bertha Hope\, Lonnie Plaxico\, contemporary artists Eunbi Kim\, Gina Izzo and synth-pop band Sunset Rollercoaster. She has toured in the US and internationally in Asia at festivals and performed in prestigious venues in NY such as Jazz at Lincoln Center\, Smoke Jazz Club\, Small Jazz club and Kupferberg Center for the Arts. \nHer original composition and arrangements blend the style of jazz and avant-garde\, with a taste of groove and imagination telling her own story and how she views the world through her artistry filled with love and uplifting energy. Write what you wish for -said Wayne Shorter is always a guidance she follows when she creates. Her past release includes a trio project “Pause & Effect” on ESP-Disk\, and a 19 mins jazz suite “As a Women…” which she created in 2022 when she was granted the Silver lining New Artist Awards to compose a commissioned piece that tells the story of Women Entrepreneurs. Wen-Ting is endorsed by Canopus Drums.
URL:https://www.fabnyc.org/event/wen-ting-wu-trio/
LOCATION:East 4th Street Open Street\, 70 East 4th Street\, New York\, NY\, 10003\, United States
CATEGORIES:All Events,Open Arts LES
ATTACH;FMTTYPE=image/jpeg:https://www.fabnyc.org/wp-content/uploads/2025/07/1000013001-1-scaled.jpg
END:VEVENT
BEGIN:VEVENT
DTSTART;TZID=UTC:20250807T173000
DTEND;TZID=UTC:20250807T193000
DTSTAMP:20260421T155112
CREATED:20250811T153103Z
LAST-MODIFIED:20250811T153103Z
UID:7240-1754587800-1754595000@www.fabnyc.org
SUMMARY:Open Arts LES: Amawta Roots
DESCRIPTION:Amawta Roots is part of a musicians program at the Ecuadorian American Cultural Center’s initiative to amplify Ecuadorian American musical genres\, instruments and talent. \nAmawta Roots is a musical group in charge of disseminating the different Ecuadorian musical genres for New York City community and beyond\, which wants to project Ecuador as a cultural power and invite communities of other cultures to learn about the diversity within Ecuadorian music. \nOur mission is to promote Ecuadorian music through a fresh vision\, strengthen our identity and promote musical works by Ecuadorian composers and musicians\, as well as contribute new music to attract audiences from different generations.
URL:https://www.fabnyc.org/event/open-arts-les-amawta-roots/
LOCATION:East 4th Street Open Street\, 70 East 4th Street\, New York\, NY\, 10003\, United States
CATEGORIES:All Events,Open Arts LES
ATTACH;FMTTYPE=image/jpeg:https://www.fabnyc.org/wp-content/uploads/2025/08/Amawta-Roots.jpeg
END:VEVENT
BEGIN:VEVENT
DTSTART;TZID=UTC:20250821T173000
DTEND;TZID=UTC:20250821T193000
DTSTAMP:20260421T155112
CREATED:20250811T165142Z
LAST-MODIFIED:20250811T165142Z
UID:7245-1755797400-1755804600@www.fabnyc.org
SUMMARY:Open Arts LES: Jamile Staevie Ayres
DESCRIPTION:Born and raised in Brazil\, but thriving in New York\, Jamile’s artistry includes a love of language\, a closeness with genre\, a deep feeling for style—and a demand to throw all of these aside for the pleasures of transcendence. Jamile specifically loves mixing modern jazz and Brazilian jazz\, as well as her original compositions\, in a unique set of music that is rarely heard. \nJamile is a vocalist\, composer\, and educator from Brazil based in NYC. Her versatility is sharply pronounced in her unique repertoire choices\, combining modern and Brazilian jazz into a sound of her own. \nShe has two critically acclaimed albums featuring the great Steve Wilson and was the opening act for Rosa Passos\, Ron Carter\, and Kenny Barron at JALC in 2023. \nJamile also collaborates with Grammy-nominated pianist Mike Holober\, the latest project being “This Rock We’re On: Imaginary Letters”\, where she was featured alongside Chris Potter and John Patitucci. \nShe has performed at world-renowned venues\, including Mezzrow\, Smalls\, Birdland\, and Dizzy’s\, and received high praise for her performances internationally. \nThroughout her career\, Jamile has performed with veterans of this music\, including Toninho Horta\, Duduka da Fonseca\, Hélio Alves\, Ray Gallon\, and Jay Leonhart\, as well as current NYC jazz luminaries such as Miki Yamanaka\, Yotam Silberstein\, and Russell Hall.
URL:https://www.fabnyc.org/event/open-arts-les-jamile-staevie-ayres/
LOCATION:East 4th Street Open Street\, 70 East 4th Street\, New York\, NY\, 10003\, United States
CATEGORIES:All Events,Open Arts LES
ATTACH;FMTTYPE=image/jpeg:https://www.fabnyc.org/wp-content/uploads/2025/08/Jamile-by-Vinicius-Carvalho-4-scaled-e1754929714538.jpeg
END:VEVENT
BEGIN:VEVENT
DTSTART;TZID=UTC:20250904T170000
DTEND;TZID=UTC:20250904T190000
DTSTAMP:20260421T155112
CREATED:20250909T182304Z
LAST-MODIFIED:20250909T182304Z
UID:7301-1757005200-1757012400@www.fabnyc.org
SUMMARY:Open Arts LES: Koku Gonza
DESCRIPTION:Koku Gonza\, a Tanzanian-American Afro-soul artist\, will offer a deeply resonant and genre-bending set blending Afrobeat\, R&B\, highlife\, and jazz influences. Her music—performed in English and Swahili—bridges continents and cultures\, reflecting the spirit of global Black solidarity and diasporic creativity. \nAbout Koku Gonza: A Tanzanian-American Afro-soul artist who blends Afrobeat\, R&B\, and Neo-soul into a unique sound. Known for her sultry style\, she has performed at major events like Italy’s Umbria Jazz Festival\, Egypt’s Creative African Nexus Canex Festival\, and the Women Deliver conference in Rwanda. Her top songs\, including “Zanzibar\,” “Utamu\,” and “Motto\,” feature Swahili\, Soul\, and Ghanaian Highlife influences. Koku celebrates her African roots through her music.
URL:https://www.fabnyc.org/event/open-arts-les-koku-gonza/
LOCATION:East 4th Street Open Street\, 70 East 4th Street\, New York\, NY\, 10003\, United States
CATEGORIES:All Events,Open Arts LES
ATTACH;FMTTYPE=image/jpeg:https://www.fabnyc.org/wp-content/uploads/2025/09/Koku-Gonza-Press-Photo-1-scaled.jpg
END:VEVENT
BEGIN:VEVENT
DTSTART;TZID=UTC:20250913T133000
DTEND;TZID=UTC:20250913T143000
DTSTAMP:20260421T155112
CREATED:20250909T183228Z
LAST-MODIFIED:20250909T183228Z
UID:7303-1757770200-1757773800@www.fabnyc.org
SUMMARY:Open Arts LES: Erli Perez Jazz
DESCRIPTION:As a former Californian\, Erli began his career as a Jazz vocalist a few years after moving to New York City. With the likes of his mentors such as Jay Clayton\, Sheila Jordan\, Mark Murphy\, Marilyn Maye\, & Marianne Solivan\, Erli has quickly created a style and a reputation all his own. His style ranges from straight-ahead Jazz/Bebop to more modern styles
URL:https://www.fabnyc.org/event/open-arts-les-erli-perez-jazz/
LOCATION:Avenue B Open Street\, Avenue B between E 8th Street & E 9th Street\, New York\, NY\, 10009\, United States
CATEGORIES:All Events,Open Arts LES
ATTACH;FMTTYPE=image/png:https://www.fabnyc.org/wp-content/uploads/2025/09/10.26.24-1.png
END:VEVENT
BEGIN:VEVENT
DTSTART;TZID=UTC:20250913T150000
DTEND;TZID=UTC:20250913T160000
DTSTAMP:20260421T155112
CREATED:20250909T184404Z
LAST-MODIFIED:20250909T194956Z
UID:7306-1757775600-1757779200@www.fabnyc.org
SUMMARY:Open Arts LES: DASO y el Grupo Cemí
DESCRIPTION:David Soto [AKA DāSo] started on his musical journey as a child while performing with his mom in the Puerto Rican folkloric dance troupe\, Grupo Cemí. He grew up Loisaida amidst a flourishing culture of Nuyorican poets back in the early 70-80s. Learning from mentors which include his mother María Hernández\, Bimbo Rivas\, TatoLaviera and Luis Guzmán\, he honed his craft in front of live audiences performing in places like the Nuyorican Poets Café\, Tompkins Square Park\, local community garden parties and CHARAS fundraisers. \nIn 2005\, DāSo focused his musical energies on creating a cross-cultural fusion music steeped in uplifting affirmations and spiritually rooted themes of unity and healing. The music is a bi-lingual fusion of hip hop\, bomba\, house\, plena\, reggaeton\, R&B\, salsa\, and rock topped with some ballads that is often hard to categorize. \nDāSo has spent over two decades as a community organizer\, dedicating his time to youth services\, counseling\, advocacy & activism. He founded DASO Entertainment & organized New Village Music Festival as a promo outlet for young musicians\, artists and their creations. In 2022\, Daso founded the Piragua Art Space\, featuring visual art installations\, intimate performances\, music rehearsals & vocal recordings. The space serves as the physical flagship store for the Piragua Clothing Brand\, which launched online in 2017.
URL:https://www.fabnyc.org/event/open-arts-les-daso-y-el-grupo-cemi/
LOCATION:Avenue B Open Street\, Avenue B between E 8th Street & E 9th Street\, New York\, NY\, 10009\, United States
CATEGORIES:All Events,Open Arts LES
ATTACH;FMTTYPE=image/jpeg:https://www.fabnyc.org/wp-content/uploads/2025/09/unnamed-6.jpg
END:VEVENT
BEGIN:VEVENT
DTSTART;TZID=UTC:20250918T170000
DTEND;TZID=UTC:20250918T190000
DTSTAMP:20260421T155112
CREATED:20250909T193044Z
LAST-MODIFIED:20250909T193145Z
UID:7309-1758214800-1758222000@www.fabnyc.org
SUMMARY:Open Arts LES: Sundate
DESCRIPTION:Sundate is an ensemble rooted in the vibrant cultural landscape of New York City. Our group offers live music that blends modern jazz\, soul\, Latin\, and global influences into a sound that is both deeply personal and universally resonant. \nLed by Victor Solano\, and joined by members Alfredo Colon\, Jonathan Paik\, Justin Henery\, Mason O’Donnell\, Carter Yasutake\, Sundate reflects the diversity of the city that raised us. Each of us brings our unique cultural identity and musical experience to the table\, making their performances a powerful celebration of multicultural expression and connection.\nOur music is a reflection of their families\, their neighborhoods. One example is a piece Victor Solano composed in memory of his aunt\, Mary Carmen\, who passed away in the Dominican Republic. Sundate thrives on live performance. They’ve played at venues such as Mintons\, Dada\, Kato Sake Works\, Bad Therapy\, Fiction\, Williamsburg Music Center\, and have played the Brownsville Jazz Festival and the West Harlem Jazz Festival.
URL:https://www.fabnyc.org/event/open-arts-les-sundate/
LOCATION:East 4th Street Open Street\, 70 East 4th Street\, New York\, NY\, 10003\, United States
CATEGORIES:All Events,Open Arts LES
ATTACH;FMTTYPE=image/jpeg:https://www.fabnyc.org/wp-content/uploads/2025/09/InShot_20190228_123220112.jpg
END:VEVENT
BEGIN:VEVENT
DTSTART;TZID=UTC:20251025T133000
DTEND;TZID=UTC:20251025T143000
DTSTAMP:20260421T155112
CREATED:20250909T194747Z
LAST-MODIFIED:20251007T145942Z
UID:7312-1761399000-1761402600@www.fabnyc.org
SUMMARY:Open Arts LES: Yi-Yi
DESCRIPTION:YiYi\, a Ukrainian folk group composed of Caroline Kuhn\, Katie Pawluk\, and Zoya Shepko\, breathes new life into traditional Ukrainian songs through unconventional arrangements and a diverse mix of instruments\, including the bandura\, violin\, banjo\, hutsul drum\, cello and accordion. Their performances are characterized by three-part polyphony\, creating rich sonic tapestries that transport audiences from lively party vibes to poignant moments of heartbreak.
URL:https://www.fabnyc.org/event/open-arts-les-yi-yi/
LOCATION:Avenue B Open Street\, Avenue B between E 8th Street & E 9th Street\, New York\, NY\, 10009\, United States
CATEGORIES:All Events,Open Arts LES
ATTACH;FMTTYPE=image/png:https://www.fabnyc.org/wp-content/uploads/2025/09/YiYi.png
END:VEVENT
BEGIN:VEVENT
DTSTART;TZID=UTC:20251025T150000
DTEND;TZID=UTC:20251025T160000
DTSTAMP:20260421T155112
CREATED:20251007T145832Z
LAST-MODIFIED:20251007T145902Z
UID:7531-1761404400-1761408000@www.fabnyc.org
SUMMARY:Open Arts LES: Nolan Nwachukwu Project
DESCRIPTION:Nolan Nwachukwu Project’s music features a combination of diverse original compositions and new\, funky interpretations of contemporary songs and jazz standards. The compositions and arrangements performed by the group are infused with a blend of African-American genres\, including gospel\, jazz\, R&B\, soul\, funk\, and other world music. \nAbout Nolan Nwachukwu  \nNolan Nwachukwu is a bassist\, composer\, and producer based in New York City. Originally from South Florida\, Nolan studied Jazz at the Dillard Center for the Arts under the direction of Christopher Dorsey. With Nolan on bass\, the DCA band achieved 2 straight top-3 finishes at the Essentially Ellington national competition\, including an award for outstanding rhythm section and an honorable mention on bass. He received his Bachelor of Music degree from the Manhattan School of Music\, under the guidance of Buster Williams\, Marc Cary\, Kendrick Scott\, and John Benitez. \nSince relocating to New York\, Nolan has begun collaborations with acclaimed artists and musicians such as J’Nai Bridges\, Damien Sneed\, Michael Mwenso and the Shakes\, Tyreek McDole\, Miles Lennox\, Savion Glover\, Miki Howard\, Jon Batiste\, Ruben Fox\, Willerm Delisfort\, Tina Fabrique\, Brandon Woody\, Cisco Swank\, FORAGER\, Jillian Grace\, Imani Rouselle\, Reuben James\, and the Jazz at Lincoln Center. \nNolan has performed at many notable venues and festivals including Dizzy’s @ Jazz at Lincoln Center\, Mintons Playhouse\, Smalls Jazz Club\, Carnegie Hall\, MET Art Museum\, City Winery (New York\, Pittsburgh\, and Philadelphia)\, NPR Tiny Desk (Home)\, Monterey Jazz Festival\, Montclair Jazz Festival\, South Beach Jazz Festival\, Umbria Winter Jazz Festival\, and Burlington Discover Jazz Festival amongst others. \nNolan currently performs throughout various venues in NYC and tours nationally and internationally between different groups\, including FORAGER\, Michael Mwenso & The Shakes\, and Electric Root’s Production: The Sound of (Black) Music.
URL:https://www.fabnyc.org/event/open-arts-les-nolan-nwachukwu-project/
LOCATION:Avenue B Open Street\, Avenue B between E 8th Street & E 9th Street\, New York\, NY\, 10009\, United States
CATEGORIES:All Events,Open Arts LES
ATTACH;FMTTYPE=image/jpeg:https://www.fabnyc.org/wp-content/uploads/2025/10/maxresdefault.jpg
END:VEVENT
BEGIN:VEVENT
DTSTART;TZID=America/New_York:20260507T173000
DTEND;TZID=America/New_York:20260507T193000
DTSTAMP:20260421T155112
CREATED:20260319T170714Z
LAST-MODIFIED:20260319T170714Z
UID:7743-1778175000-1778182200@www.fabnyc.org
SUMMARY:Open Arts LES: Sonido Costeño
DESCRIPTION:Open Arts LES is back on 4th Street. Stop by for Latin music and salsa with our neighborhood favorite\, Sonido Costeño! \nSonido Costeño (SC) is a modern day latin band in New York City. Their high energy music is a creative fusion of latin music and salsa along with other world music and their fabulous concerts transform their club audiences into dance hall performances. Sonido Costeño’s “staying power” is seen by the ensemble’s growing loyal fan base from not only the New York City area (Manhattan\, Bronx\, Brooklyn\, Queens) but also the tri-state area and abroad. \nJuanMa Morales\, founder of Sonido Costeño is a Cornell Graduate and Julliard alumni. Morales leads the band as vocalist and plays guitar as well as the Puerto Rican cuatro (the island’s national instrument). Las Gaviotas (The Seagulls) and Senora (My Lady)\, two of Morales’ original songs\, have won the Billboard Songwriting award. Under Juan Ma’s dynamic leadership\, Sonido Costeño play diverse salsa rhythms\, enticing “salseros” and non-salsa dancers alike to move onto the dance floor. The band’s dance repertoire includes: Son Cubano\, Nueva Trova\, Boleros and Ballads\, Cha Cha Cha\, Mambo\, Guaguanco\, Latin Jazz\, and the band is known to play a Merengue and Bachata or two. Their unique sound appeals to broad and diverse audiences from all generations.
URL:https://www.fabnyc.org/event/open-arts-les-sonido-costeno-2/
LOCATION:FABnyc\, 70 East 4th Street\, New York\, NY\, 10003\, United States
CATEGORIES:All Events,Open Arts LES
END:VEVENT
BEGIN:VEVENT
DTSTART;TZID=UTC:20260521T173000
DTEND;TZID=UTC:20260521T193000
DTSTAMP:20260421T155112
CREATED:20260319T181822Z
LAST-MODIFIED:20260319T181822Z
UID:7745-1779384600-1779391800@www.fabnyc.org
SUMMARY:Open Arts LES: Mencius Society for the Arts
DESCRIPTION:
URL:https://www.fabnyc.org/event/open-arts-les-2026-mencius/
LOCATION:FABnyc\, 70 East 4th Street\, New York\, NY\, 10003\, United States
CATEGORIES:All Events,Open Arts LES
END:VEVENT
END:VCALENDAR